BEGIN:VCALENDAR
VERSION:2.0
PRODID:-//ClearView Church Oakville - ECPv6.15.20//NONSGML v1.0//EN
CALSCALE:GREGORIAN
METHOD:PUBLISH
X-WR-CALNAME:ClearView Church Oakville
X-ORIGINAL-URL:https://clearviewchurch.com
X-WR-CALDESC:Events for ClearView Church Oakville
REFRESH-INTERVAL;VALUE=DURATION:PT1H
X-Robots-Tag:noindex
X-PUBLISHED-TTL:PT1H
BEGIN:VTIMEZONE
TZID:America/Toronto
BEGIN:DAYLIGHT
TZOFFSETFROM:-0500
TZOFFSETTO:-0400
TZNAME:EDT
DTSTART:20250309T070000
END:DAYLIGHT
BEGIN:STANDARD
TZOFFSETFROM:-0400
TZOFFSETTO:-0500
TZNAME:EST
DTSTART:20251102T060000
END:STANDARD
BEGIN:DAYLIGHT
TZOFFSETFROM:-0500
TZOFFSETTO:-0400
TZNAME:EDT
DTSTART:20260308T070000
END:DAYLIGHT
BEGIN:STANDARD
TZOFFSETFROM:-0400
TZOFFSETTO:-0500
TZNAME:EST
DTSTART:20261101T060000
END:STANDARD
BEGIN:DAYLIGHT
TZOFFSETFROM:-0500
TZOFFSETTO:-0400
TZNAME:EDT
DTSTART:20270314T070000
END:DAYLIGHT
BEGIN:STANDARD
TZOFFSETFROM:-0400
TZOFFSETTO:-0500
TZNAME:EST
DTSTART:20271107T060000
END:STANDARD
END:VTIMEZONE
BEGIN:VEVENT
DTSTART;TZID=America/Toronto:20260208T100000
DTEND;TZID=America/Toronto:20260208T113000
DTSTAMP:20260421T123135
CREATED:20251110T002357Z
LAST-MODIFIED:20260208T162215Z
UID:93486-1770544800-1770550200@clearviewchurch.com
SUMMARY:Worship Gathering
DESCRIPTION:Come join our community as we gather to worship in person and move forward together following Jesus. \nFor those ready to worship in community\, we can’t wait to joyfully welcome you into our church space where every effort will be made to keep you safe.  We will continue to  live-stream our worship services on YouTube to accommodate those who are unable to join us in person. 
URL:https://clearviewchurch.com/event/worship-gathering-160/
END:VEVENT
BEGIN:VEVENT
DTSTART;TZID=America/Toronto:20260208T113000
DTEND;TZID=America/Toronto:20260208T123000
DTSTAMP:20260421T123135
CREATED:20260101T233752Z
LAST-MODIFIED:20260208T162215Z
UID:94740-1770550200-1770553800@clearviewchurch.com
SUMMARY:Newcomers Meet n Greet
DESCRIPTION:Every few months\, the ClearView Welcome Team warmly hosts our Newcomers Meet & Greet. \nWho?   Those who are new to ClearView Church\, or just interested in learning more about us                                         \nWhat?   A brief time to mix and mingle\, followed by light refreshments and conversation with Pastor Phil and other staff (Play activities will be available for young children.) \nWhen?  Right after the morning service \nWhere?   In The Commons \nWhy?   To provide an opportunity for newcomers to learn more about ClearView and for all of us to get to know each other better \nOur next Meet ’n Greet is on Sunday\, February 8th\, 2026.  Click HERE to let us know you are attending. \nReach out to our Welcome Team with any inquiries: email welcome@clearviewchurch.com.
URL:https://clearviewchurch.com/event/newcomers-meet-n-greet/
LOCATION:The Commons Room (directly behind worhsip center)
END:VEVENT
BEGIN:VEVENT
DTSTART;TZID=America/Toronto:20260208T183000
DTEND;TZID=America/Toronto:20260208T203000
DTSTAMP:20260421T123135
CREATED:20251110T002358Z
LAST-MODIFIED:20260209T003715Z
UID:93487-1770575400-1770582600@clearviewchurch.com
SUMMARY:Youth
DESCRIPTION:
URL:https://clearviewchurch.com/event/youth-34/
END:VEVENT
END:VCALENDAR