BEGIN:VCALENDAR
VERSION:2.0
PRODID:-//ClearView Church Oakville - ECPv6.15.20//NONSGML v1.0//EN
CALSCALE:GREGORIAN
METHOD:PUBLISH
X-ORIGINAL-URL:https://clearviewchurch.com
X-WR-CALDESC:Events for ClearView Church Oakville
REFRESH-INTERVAL;VALUE=DURATION:PT1H
X-Robots-Tag:noindex
X-PUBLISHED-TTL:PT1H
BEGIN:VTIMEZONE
TZID:America/Toronto
BEGIN:DAYLIGHT
TZOFFSETFROM:-0500
TZOFFSETTO:-0400
TZNAME:EDT
DTSTART:20250309T070000
END:DAYLIGHT
BEGIN:STANDARD
TZOFFSETFROM:-0400
TZOFFSETTO:-0500
TZNAME:EST
DTSTART:20251102T060000
END:STANDARD
BEGIN:DAYLIGHT
TZOFFSETFROM:-0500
TZOFFSETTO:-0400
TZNAME:EDT
DTSTART:20260308T070000
END:DAYLIGHT
BEGIN:STANDARD
TZOFFSETFROM:-0400
TZOFFSETTO:-0500
TZNAME:EST
DTSTART:20261101T060000
END:STANDARD
BEGIN:DAYLIGHT
TZOFFSETFROM:-0500
TZOFFSETTO:-0400
TZNAME:EDT
DTSTART:20270314T070000
END:DAYLIGHT
BEGIN:STANDARD
TZOFFSETFROM:-0400
TZOFFSETTO:-0500
TZNAME:EST
DTSTART:20271107T060000
END:STANDARD
END:VTIMEZONE
BEGIN:VEVENT
DTSTART;TZID=America/Toronto:20260408T100000
DTEND;TZID=America/Toronto:20260408T113000
DTSTAMP:20260425T062637
CREATED:20260108T000915Z
LAST-MODIFIED:20260408T145220Z
UID:94883-1775642400-1775647800@clearviewchurch.com
SUMMARY:Senior Circle
DESCRIPTION:ClearView Senior Circle meets for a time of fellowship and devotional encouragement. \nSenior Circle meets the second and fourth Wednesday of every month\, at 10:00 am. If you would like to be a part of this community of seniors\, contact Sharon Van Beilen at hsvanbeilen@gmail.com or Tineke Ruppel at 905-842-8430.
URL:https://clearviewchurch.com/event/senior-circle-34/
END:VEVENT
BEGIN:VEVENT
DTSTART;TZID=America/Toronto:20260408T193000
DTEND;TZID=America/Toronto:20260408T210000
DTSTAMP:20260425T062637
CREATED:20260112T040923Z
LAST-MODIFIED:20260409T005219Z
UID:95005-1775676600-1775682000@clearviewchurch.com
SUMMARY:Young Adults - Cafe
DESCRIPTION:
URL:https://clearviewchurch.com/event/young-adults-cafe-13/
END:VEVENT
END:VCALENDAR