BEGIN:VCALENDAR
VERSION:2.0
PRODID:-//ClearView Church Oakville - ECPv6.15.20//NONSGML v1.0//EN
CALSCALE:GREGORIAN
METHOD:PUBLISH
X-WR-CALNAME:ClearView Church Oakville
X-ORIGINAL-URL:https://clearviewchurch.com
X-WR-CALDESC:Events for ClearView Church Oakville
REFRESH-INTERVAL;VALUE=DURATION:PT1H
X-Robots-Tag:noindex
X-PUBLISHED-TTL:PT1H
BEGIN:VTIMEZONE
TZID:America/Toronto
BEGIN:DAYLIGHT
TZOFFSETFROM:-0500
TZOFFSETTO:-0400
TZNAME:EDT
DTSTART:20250309T070000
END:DAYLIGHT
BEGIN:STANDARD
TZOFFSETFROM:-0400
TZOFFSETTO:-0500
TZNAME:EST
DTSTART:20251102T060000
END:STANDARD
BEGIN:DAYLIGHT
TZOFFSETFROM:-0500
TZOFFSETTO:-0400
TZNAME:EDT
DTSTART:20260308T070000
END:DAYLIGHT
BEGIN:STANDARD
TZOFFSETFROM:-0400
TZOFFSETTO:-0500
TZNAME:EST
DTSTART:20261101T060000
END:STANDARD
BEGIN:DAYLIGHT
TZOFFSETFROM:-0500
TZOFFSETTO:-0400
TZNAME:EDT
DTSTART:20270314T070000
END:DAYLIGHT
BEGIN:STANDARD
TZOFFSETFROM:-0400
TZOFFSETTO:-0500
TZNAME:EST
DTSTART:20271107T060000
END:STANDARD
END:VTIMEZONE
BEGIN:VEVENT
DTSTART;TZID=America/Toronto:20260416T100000
DTEND;TZID=America/Toronto:20260416T120000
DTSTAMP:20260421T083651
CREATED:20260116T005430Z
LAST-MODIFIED:20260416T155213Z
UID:95101-1776333600-1776340800@clearviewchurch.com
SUMMARY:Pickleball
DESCRIPTION:
URL:https://clearviewchurch.com/event/pickleball-127/
END:VEVENT
BEGIN:VEVENT
DTSTART;TZID=America/Toronto:20260416T190000
DTEND;TZID=America/Toronto:20260416T203000
DTSTAMP:20260421T083651
CREATED:20260116T005430Z
LAST-MODIFIED:20260417T000713Z
UID:95102-1776366000-1776371400@clearviewchurch.com
SUMMARY:GEMS and Cadets
DESCRIPTION:
URL:https://clearviewchurch.com/event/gems-and-cadets-51/
END:VEVENT
BEGIN:VEVENT
DTSTART;TZID=America/Toronto:20260416T191500
DTEND;TZID=America/Toronto:20260416T201500
DTSTAMP:20260421T083651
CREATED:20260116T005431Z
LAST-MODIFIED:20260416T135212Z
UID:95103-1776366900-1776370500@clearviewchurch.com
SUMMARY:Prayer and Worship Night
DESCRIPTION:
URL:https://clearviewchurch.com/event/prayer-and-worship-night-8/
END:VEVENT
END:VCALENDAR