BEGIN:VCALENDAR
VERSION:2.0
PRODID:-//ClearView Church Oakville - ECPv6.15.20//NONSGML v1.0//EN
CALSCALE:GREGORIAN
METHOD:PUBLISH
X-WR-CALNAME:ClearView Church Oakville
X-ORIGINAL-URL:https://clearviewchurch.com
X-WR-CALDESC:Events for ClearView Church Oakville
REFRESH-INTERVAL;VALUE=DURATION:PT1H
X-Robots-Tag:noindex
X-PUBLISHED-TTL:PT1H
BEGIN:VTIMEZONE
TZID:America/Toronto
BEGIN:DAYLIGHT
TZOFFSETFROM:-0500
TZOFFSETTO:-0400
TZNAME:EDT
DTSTART:20250309T070000
END:DAYLIGHT
BEGIN:STANDARD
TZOFFSETFROM:-0400
TZOFFSETTO:-0500
TZNAME:EST
DTSTART:20251102T060000
END:STANDARD
BEGIN:DAYLIGHT
TZOFFSETFROM:-0500
TZOFFSETTO:-0400
TZNAME:EDT
DTSTART:20260308T070000
END:DAYLIGHT
BEGIN:STANDARD
TZOFFSETFROM:-0400
TZOFFSETTO:-0500
TZNAME:EST
DTSTART:20261101T060000
END:STANDARD
BEGIN:DAYLIGHT
TZOFFSETFROM:-0500
TZOFFSETTO:-0400
TZNAME:EDT
DTSTART:20270314T070000
END:DAYLIGHT
BEGIN:STANDARD
TZOFFSETFROM:-0400
TZOFFSETTO:-0500
TZNAME:EST
DTSTART:20271107T060000
END:STANDARD
END:VTIMEZONE
BEGIN:VEVENT
DTSTART;TZID=America/Toronto:20260511T093000
DTEND;TZID=America/Toronto:20260511T113000
DTSTAMP:20260425T114908
CREATED:20260420T160749Z
LAST-MODIFIED:20260425T143735Z
UID:97421-1778491800-1778499000@clearviewchurch.com
SUMMARY:Pickleball
DESCRIPTION:
URL:https://clearviewchurch.com/event/pickleball-160/
END:VEVENT
BEGIN:VEVENT
DTSTART;TZID=America/Toronto:20260511T100000
DTEND;TZID=America/Toronto:20260511T120000
DTSTAMP:20260425T114908
CREATED:20260210T005421Z
LAST-MODIFIED:20260420T145246Z
UID:95733-1778493600-1778500800@clearviewchurch.com
SUMMARY:Pickleball
DESCRIPTION:
URL:https://clearviewchurch.com/event/pickleball-134/
END:VEVENT
BEGIN:VEVENT
DTSTART;TZID=America/Toronto:20260511T100000
DTEND;TZID=America/Toronto:20260511T130000
DTSTAMP:20260425T114908
CREATED:20260210T005420Z
LAST-MODIFIED:20260425T143735Z
UID:95732-1778493600-1778504400@clearviewchurch.com
SUMMARY:Creative Sisters
DESCRIPTION:
URL:https://clearviewchurch.com/event/creative-sisters-120/
END:VEVENT
BEGIN:VEVENT
DTSTART;TZID=America/Toronto:20260511T190000
DTEND;TZID=America/Toronto:20260511T201500
DTSTAMP:20260425T114908
CREATED:20260210T005421Z
LAST-MODIFIED:20260425T143735Z
UID:95734-1778526000-1778530500@clearviewchurch.com
SUMMARY:Friendship Dance - Last meeting of season
DESCRIPTION:Friendship Club\n\nClearView hosts a wonderful club on Monday nights for the purpose of sharing God’s love and care with people who have intellectual disabilities. \nOur Friends grow in their relationship with Christ and share their gifts as members of a church family alongside caring Christian mentors. Friendship Club is a fun place of singing\, praying\, dancing\, eating and learning more about God. New adult mentors are always welcome (no special degree is required—just a loving willingness to see others grow and thrive in a Christian environment). \nFriendship Club meets  Monday evenings 7–8:30 pm.If you are looking for a special place for someone you know\, or are interested in learning more about being a mentor\, contact    friendship@clearviewchurch.com).
URL:https://clearviewchurch.com/event/friendship-55/
END:VEVENT
END:VCALENDAR