BEGIN:VCALENDAR
VERSION:2.0
PRODID:-//ClearView Church Oakville - ECPv6.15.20//NONSGML v1.0//EN
CALSCALE:GREGORIAN
METHOD:PUBLISH
X-WR-CALNAME:ClearView Church Oakville
X-ORIGINAL-URL:https://clearviewchurch.com
X-WR-CALDESC:Events for ClearView Church Oakville
REFRESH-INTERVAL;VALUE=DURATION:PT1H
X-Robots-Tag:noindex
X-PUBLISHED-TTL:PT1H
BEGIN:VTIMEZONE
TZID:America/Toronto
BEGIN:DAYLIGHT
TZOFFSETFROM:-0500
TZOFFSETTO:-0400
TZNAME:EDT
DTSTART:20250309T070000
END:DAYLIGHT
BEGIN:STANDARD
TZOFFSETFROM:-0400
TZOFFSETTO:-0500
TZNAME:EST
DTSTART:20251102T060000
END:STANDARD
BEGIN:DAYLIGHT
TZOFFSETFROM:-0500
TZOFFSETTO:-0400
TZNAME:EDT
DTSTART:20260308T070000
END:DAYLIGHT
BEGIN:STANDARD
TZOFFSETFROM:-0400
TZOFFSETTO:-0500
TZNAME:EST
DTSTART:20261101T060000
END:STANDARD
BEGIN:DAYLIGHT
TZOFFSETFROM:-0500
TZOFFSETTO:-0400
TZNAME:EDT
DTSTART:20270314T070000
END:DAYLIGHT
BEGIN:STANDARD
TZOFFSETFROM:-0400
TZOFFSETTO:-0500
TZNAME:EST
DTSTART:20271107T060000
END:STANDARD
END:VTIMEZONE
BEGIN:VEVENT
DTSTART;TZID=America/Toronto:20260125T100000
DTEND;TZID=America/Toronto:20260125T113000
DTSTAMP:20260421T142129
CREATED:20251027T000852Z
LAST-MODIFIED:20260125T152215Z
UID:93166-1769335200-1769340600@clearviewchurch.com
SUMMARY:Worship Gathering
DESCRIPTION:Come join our community as we gather to worship in person and move forward together following Jesus. \nFor those ready to worship in community\, we can’t wait to joyfully welcome you into our church space where every effort will be made to keep you safe.  We will continue to  live-stream our worship services on YouTube to accommodate those who are unable to join us in person. 
URL:https://clearviewchurch.com/event/worship-gathering-158/
END:VEVENT
BEGIN:VEVENT
DTSTART;TZID=America/Toronto:20260123T183000
DTEND;TZID=America/Toronto:20260123T203000
DTSTAMP:20260421T142129
CREATED:20260112T040726Z
LAST-MODIFIED:20260124T005217Z
UID:94992-1769193000-1769200200@clearviewchurch.com
SUMMARY:The Women's Collective
DESCRIPTION:
URL:https://clearviewchurch.com/event/the-womens-collective/
LOCATION:The Commons
END:VEVENT
BEGIN:VEVENT
DTSTART;TZID=America/Toronto:20260122T190000
DTEND;TZID=America/Toronto:20260122T203000
DTSTAMP:20260421T142129
CREATED:20251025T002401Z
LAST-MODIFIED:20260123T005215Z
UID:93123-1769108400-1769113800@clearviewchurch.com
SUMMARY:GEMS and Cadets
DESCRIPTION:
URL:https://clearviewchurch.com/event/gems-and-cadets-42/
END:VEVENT
BEGIN:VEVENT
DTSTART;TZID=America/Toronto:20260122T100000
DTEND;TZID=America/Toronto:20260122T120000
DTSTAMP:20260421T142129
CREATED:20260101T192240Z
LAST-MODIFIED:20260122T165213Z
UID:94714-1769076000-1769083200@clearviewchurch.com
SUMMARY:Pickleball
DESCRIPTION:
URL:https://clearviewchurch.com/event/pickleball-103/
END:VEVENT
BEGIN:VEVENT
DTSTART;TZID=America/Toronto:20260121T193000
DTEND;TZID=America/Toronto:20260121T210000
DTSTAMP:20260421T142129
CREATED:20260112T040726Z
LAST-MODIFIED:20260122T013713Z
UID:94991-1769023800-1769029200@clearviewchurch.com
SUMMARY:Young Adults - Cafe
DESCRIPTION:
URL:https://clearviewchurch.com/event/young-adults-cafe-2/
END:VEVENT
BEGIN:VEVENT
DTSTART;TZID=America/Toronto:20260121T193000
DTEND;TZID=America/Toronto:20260121T210000
DTSTAMP:20260421T142129
CREATED:20260101T192240Z
LAST-MODIFIED:20260122T013713Z
UID:94713-1769023800-1769029200@clearviewchurch.com
SUMMARY:Baptism and Profession of Faith Classes
DESCRIPTION:
URL:https://clearviewchurch.com/event/baptism-and-profession-of-faith-classes/
END:VEVENT
END:VCALENDAR