BEGIN:VCALENDAR
VERSION:2.0
PRODID:-//ClearView Church Oakville - ECPv6.15.20//NONSGML v1.0//EN
CALSCALE:GREGORIAN
METHOD:PUBLISH
X-WR-CALNAME:ClearView Church Oakville
X-ORIGINAL-URL:https://clearviewchurch.com
X-WR-CALDESC:Events for ClearView Church Oakville
REFRESH-INTERVAL;VALUE=DURATION:PT1H
X-Robots-Tag:noindex
X-PUBLISHED-TTL:PT1H
BEGIN:VTIMEZONE
TZID:America/Toronto
BEGIN:DAYLIGHT
TZOFFSETFROM:-0500
TZOFFSETTO:-0400
TZNAME:EDT
DTSTART:20250309T070000
END:DAYLIGHT
BEGIN:STANDARD
TZOFFSETFROM:-0400
TZOFFSETTO:-0500
TZNAME:EST
DTSTART:20251102T060000
END:STANDARD
BEGIN:DAYLIGHT
TZOFFSETFROM:-0500
TZOFFSETTO:-0400
TZNAME:EDT
DTSTART:20260308T070000
END:DAYLIGHT
BEGIN:STANDARD
TZOFFSETFROM:-0400
TZOFFSETTO:-0500
TZNAME:EST
DTSTART:20261101T060000
END:STANDARD
BEGIN:DAYLIGHT
TZOFFSETFROM:-0500
TZOFFSETTO:-0400
TZNAME:EDT
DTSTART:20270314T070000
END:DAYLIGHT
BEGIN:STANDARD
TZOFFSETFROM:-0400
TZOFFSETTO:-0500
TZNAME:EST
DTSTART:20271107T060000
END:STANDARD
END:VTIMEZONE
BEGIN:VEVENT
DTSTART;TZID=America/Toronto:20260305T100000
DTEND;TZID=America/Toronto:20260305T120000
DTSTAMP:20260421T142124
CREATED:20260101T192331Z
LAST-MODIFIED:20260305T160716Z
UID:94727-1772704800-1772712000@clearviewchurch.com
SUMMARY:Pickleball
DESCRIPTION:
URL:https://clearviewchurch.com/event/pickleball-115/
END:VEVENT
BEGIN:VEVENT
DTSTART;TZID=America/Toronto:20260304T193000
DTEND;TZID=America/Toronto:20260304T210000
DTSTAMP:20260421T142124
CREATED:20260112T040837Z
LAST-MODIFIED:20260305T012218Z
UID:95000-1772652600-1772658000@clearviewchurch.com
SUMMARY:Young Adults - Cafe
DESCRIPTION:
URL:https://clearviewchurch.com/event/young-adults-cafe-8/
END:VEVENT
BEGIN:VEVENT
DTSTART;TZID=America/Toronto:20260302T190000
DTEND;TZID=America/Toronto:20260302T201500
DTSTAMP:20260421T142124
CREATED:20251203T002338Z
LAST-MODIFIED:20260303T002221Z
UID:94017-1772478000-1772482500@clearviewchurch.com
SUMMARY:Friendship
DESCRIPTION:Friendship Club\n\nClearView hosts a wonderful club on Monday nights for the purpose of sharing God’s love and care with people who have intellectual disabilities. \nOur Friends grow in their relationship with Christ and share their gifts as members of a church family alongside caring Christian mentors. Friendship Club is a fun place of singing\, praying\, dancing\, eating and learning more about God. New adult mentors are always welcome (no special degree is required—just a loving willingness to see others grow and thrive in a Christian environment). \nFriendship Club meets  Monday evenings 7–8:30 pm.If you are looking for a special place for someone you know\, or are interested in learning more about being a mentor\, contact    friendship@clearviewchurch.com).
URL:https://clearviewchurch.com/event/friendship-46/
END:VEVENT
BEGIN:VEVENT
DTSTART;TZID=America/Toronto:20260302T100000
DTEND;TZID=America/Toronto:20260302T130000
DTSTAMP:20260421T142124
CREATED:20251202T005341Z
LAST-MODIFIED:20260302T173718Z
UID:93991-1772445600-1772456400@clearviewchurch.com
SUMMARY:Creative Sisters
DESCRIPTION:
URL:https://clearviewchurch.com/event/creative-sisters-110/
END:VEVENT
BEGIN:VEVENT
DTSTART;TZID=America/Toronto:20260302T100000
DTEND;TZID=America/Toronto:20260302T120000
DTSTAMP:20260421T142124
CREATED:20260101T192331Z
LAST-MODIFIED:20260302T162219Z
UID:94726-1772445600-1772452800@clearviewchurch.com
SUMMARY:Pickleball
DESCRIPTION:
URL:https://clearviewchurch.com/event/pickleball-114/
END:VEVENT
BEGIN:VEVENT
DTSTART;TZID=America/Toronto:20260301T183000
DTEND;TZID=America/Toronto:20260301T203000
DTSTAMP:20260421T142124
CREATED:20251201T005342Z
LAST-MODIFIED:20260302T003716Z
UID:93967-1772389800-1772397000@clearviewchurch.com
SUMMARY:Youth
DESCRIPTION:
URL:https://clearviewchurch.com/event/youth-37/
END:VEVENT
BEGIN:VEVENT
DTSTART;TZID=America/Toronto:20260301T100000
DTEND;TZID=America/Toronto:20260301T113000
DTSTAMP:20260421T142124
CREATED:20251201T005341Z
LAST-MODIFIED:20260301T155218Z
UID:93966-1772359200-1772364600@clearviewchurch.com
SUMMARY:Worship Gathering
DESCRIPTION:Come join our community as we gather to worship in person and move forward together following Jesus. \nFor those ready to worship in community\, we can’t wait to joyfully welcome you into our church space where every effort will be made to keep you safe.  We will continue to  live-stream our worship services on YouTube to accommodate those who are unable to join us in person. 
URL:https://clearviewchurch.com/event/worship-gathering-163/
END:VEVENT
BEGIN:VEVENT
DTSTART;TZID=America/Toronto:20260226T190000
DTEND;TZID=America/Toronto:20260226T203000
DTSTAMP:20260421T142124
CREATED:20251129T000844Z
LAST-MODIFIED:20260227T010717Z
UID:93920-1772132400-1772137800@clearviewchurch.com
SUMMARY:GEMS and Cadets
DESCRIPTION:
URL:https://clearviewchurch.com/event/gems-and-cadets-47/
END:VEVENT
BEGIN:VEVENT
DTSTART;TZID=America/Toronto:20260226T100000
DTEND;TZID=America/Toronto:20260226T120000
DTSTAMP:20260421T142124
CREATED:20260101T192330Z
LAST-MODIFIED:20260226T165218Z
UID:94725-1772100000-1772107200@clearviewchurch.com
SUMMARY:Pickleball
DESCRIPTION:
URL:https://clearviewchurch.com/event/pickleball-113/
END:VEVENT
BEGIN:VEVENT
DTSTART;TZID=America/Toronto:20260225T193000
DTEND;TZID=America/Toronto:20260225T210000
DTSTAMP:20260421T142124
CREATED:20260112T040825Z
LAST-MODIFIED:20260226T015218Z
UID:94999-1772047800-1772053200@clearviewchurch.com
SUMMARY:Young Adults - Cafe
DESCRIPTION:
URL:https://clearviewchurch.com/event/young-adults-cafe-7/
END:VEVENT
BEGIN:VEVENT
DTSTART;TZID=America/Toronto:20260225T100000
DTEND;TZID=America/Toronto:20260225T113000
DTSTAMP:20260421T142124
CREATED:20251127T003839Z
LAST-MODIFIED:20260225T162215Z
UID:93876-1772013600-1772019000@clearviewchurch.com
SUMMARY:Senior Circle
DESCRIPTION:ClearView Senior Circle meets for a time of fellowship and devotional encouragement. \nSenior Circle meets the second and fourth Wednesday of every month\, at 10:00 am. If you would like to be a part of this community of seniors\, contact Sharon Van Beilen at hsvanbeilen@gmail.com or Tineke Ruppel at 905-842-8430.
URL:https://clearviewchurch.com/event/senior-circle-31/
END:VEVENT
BEGIN:VEVENT
DTSTART;TZID=America/Toronto:20260223T190000
DTEND;TZID=America/Toronto:20260223T201500
DTSTAMP:20260421T142124
CREATED:20251126T005353Z
LAST-MODIFIED:20260224T003627Z
UID:93853-1771873200-1771877700@clearviewchurch.com
SUMMARY:Friendship
DESCRIPTION:Friendship Club\n\nClearView hosts a wonderful club on Monday nights for the purpose of sharing God’s love and care with people who have intellectual disabilities. \nOur Friends grow in their relationship with Christ and share their gifts as members of a church family alongside caring Christian mentors. Friendship Club is a fun place of singing\, praying\, dancing\, eating and learning more about God. New adult mentors are always welcome (no special degree is required—just a loving willingness to see others grow and thrive in a Christian environment). \nFriendship Club meets  Monday evenings 7–8:30 pm.If you are looking for a special place for someone you know\, or are interested in learning more about being a mentor\, contact    friendship@clearviewchurch.com).
URL:https://clearviewchurch.com/event/friendship-45/
END:VEVENT
BEGIN:VEVENT
DTSTART;TZID=America/Toronto:20260223T100000
DTEND;TZID=America/Toronto:20260223T130000
DTSTAMP:20260421T142124
CREATED:20251125T002340Z
LAST-MODIFIED:20260223T173718Z
UID:93828-1771840800-1771851600@clearviewchurch.com
SUMMARY:Creative Sisters
DESCRIPTION:
URL:https://clearviewchurch.com/event/creative-sisters-109/
END:VEVENT
BEGIN:VEVENT
DTSTART;TZID=America/Toronto:20260223T100000
DTEND;TZID=America/Toronto:20260223T120000
DTSTAMP:20260421T142124
CREATED:20260101T192318Z
LAST-MODIFIED:20260223T163715Z
UID:94724-1771840800-1771848000@clearviewchurch.com
SUMMARY:Pickleball
DESCRIPTION:
URL:https://clearviewchurch.com/event/pickleball-112/
END:VEVENT
BEGIN:VEVENT
DTSTART;TZID=America/Toronto:20260222T183000
DTEND;TZID=America/Toronto:20260222T203000
DTSTAMP:20260421T142124
CREATED:20251124T005422Z
LAST-MODIFIED:20260223T003719Z
UID:93805-1771785000-1771792200@clearviewchurch.com
SUMMARY:Youth
DESCRIPTION:
URL:https://clearviewchurch.com/event/youth-36/
END:VEVENT
BEGIN:VEVENT
DTSTART;TZID=America/Toronto:20260222T100000
DTEND;TZID=America/Toronto:20260222T113000
DTSTAMP:20260421T142124
CREATED:20251124T005422Z
LAST-MODIFIED:20260222T153715Z
UID:93804-1771754400-1771759800@clearviewchurch.com
SUMMARY:Worship Gathering
DESCRIPTION:Come join our community as we gather to worship in person and move forward together following Jesus. \nFor those ready to worship in community\, we can’t wait to joyfully welcome you into our church space where every effort will be made to keep you safe.  We will continue to  live-stream our worship services on YouTube to accommodate those who are unable to join us in person. 
URL:https://clearviewchurch.com/event/worship-gathering-162/
END:VEVENT
BEGIN:VEVENT
DTSTART;TZID=America/Toronto:20260219T191500
DTEND;TZID=America/Toronto:20260219T201500
DTSTAMP:20260421T142124
CREATED:20251122T000854Z
LAST-MODIFIED:20260220T005218Z
UID:93758-1771528500-1771532100@clearviewchurch.com
SUMMARY:Prayer and Worship Night
DESCRIPTION:
URL:https://clearviewchurch.com/event/prayer-and-worship-night-6/
END:VEVENT
BEGIN:VEVENT
DTSTART;TZID=America/Toronto:20260219T190000
DTEND;TZID=America/Toronto:20260219T203000
DTSTAMP:20260421T142124
CREATED:20251122T000854Z
LAST-MODIFIED:20260220T005218Z
UID:93759-1771527600-1771533000@clearviewchurch.com
SUMMARY:GEMS and Cadets
DESCRIPTION:
URL:https://clearviewchurch.com/event/gems-and-cadets-46/
END:VEVENT
BEGIN:VEVENT
DTSTART;TZID=America/Toronto:20260219T100000
DTEND;TZID=America/Toronto:20260219T120000
DTSTAMP:20260421T142124
CREATED:20260101T192318Z
LAST-MODIFIED:20260219T163716Z
UID:94723-1771495200-1771502400@clearviewchurch.com
SUMMARY:Pickleball
DESCRIPTION:
URL:https://clearviewchurch.com/event/pickleball-111/
END:VEVENT
BEGIN:VEVENT
DTSTART;TZID=America/Toronto:20260218T193000
DTEND;TZID=America/Toronto:20260218T210000
DTSTAMP:20260421T142124
CREATED:20260112T040813Z
LAST-MODIFIED:20260219T010716Z
UID:94998-1771443000-1771448400@clearviewchurch.com
SUMMARY:Young Adults - Cafe
DESCRIPTION:
URL:https://clearviewchurch.com/event/young-adults-cafe-6/
END:VEVENT
BEGIN:VEVENT
DTSTART;TZID=America/Toronto:20260216T190000
DTEND;TZID=America/Toronto:20260216T201500
DTSTAMP:20260421T142124
CREATED:20251119T002436Z
LAST-MODIFIED:20260217T000714Z
UID:93690-1771268400-1771272900@clearviewchurch.com
SUMMARY:NO Friendship on Family Day
DESCRIPTION:Friendship Club\n\nClearView hosts a wonderful club on Monday nights for the purpose of sharing God’s love and care with people who have intellectual disabilities. \nOur Friends grow in their relationship with Christ and share their gifts as members of a church family alongside caring Christian mentors. Friendship Club is a fun place of singing\, praying\, dancing\, eating and learning more about God. New adult mentors are always welcome (no special degree is required—just a loving willingness to see others grow and thrive in a Christian environment). \nFriendship Club meets  Monday evenings 7–8:30 pm.If you are looking for a special place for someone you know\, or are interested in learning more about being a mentor\, contact    friendship@clearviewchurch.com).
URL:https://clearviewchurch.com/event/no-friendship-on-family-day-2/
END:VEVENT
BEGIN:VEVENT
DTSTART;TZID=America/Toronto:20260216T100000
DTEND;TZID=America/Toronto:20260216T130000
DTSTAMP:20260421T142124
CREATED:20251118T000858Z
LAST-MODIFIED:20260216T170716Z
UID:93665-1771236000-1771246800@clearviewchurch.com
SUMMARY:Creative Sisters
DESCRIPTION:
URL:https://clearviewchurch.com/event/creative-sisters-108/
END:VEVENT
BEGIN:VEVENT
DTSTART;TZID=America/Toronto:20260216T100000
DTEND;TZID=America/Toronto:20260216T120000
DTSTAMP:20260421T142124
CREATED:20260101T192305Z
LAST-MODIFIED:20260216T155216Z
UID:94722-1771236000-1771243200@clearviewchurch.com
SUMMARY:Pickleball
DESCRIPTION:
URL:https://clearviewchurch.com/event/pickleball-110/
END:VEVENT
BEGIN:VEVENT
DTSTART;TZID=America/Toronto:20260215T183000
DTEND;TZID=America/Toronto:20260215T203000
DTSTAMP:20260421T142124
CREATED:20251117T000934Z
LAST-MODIFIED:20260216T003717Z
UID:93642-1771180200-1771187400@clearviewchurch.com
SUMMARY:Youth
DESCRIPTION:
URL:https://clearviewchurch.com/event/youth-35/
END:VEVENT
BEGIN:VEVENT
DTSTART;TZID=America/Toronto:20260215T100000
DTEND;TZID=America/Toronto:20260215T113000
DTSTAMP:20260421T142124
CREATED:20251117T000934Z
LAST-MODIFIED:20260215T153718Z
UID:93641-1771149600-1771155000@clearviewchurch.com
SUMMARY:Worship Gathering
DESCRIPTION:Come join our community as we gather to worship in person and move forward together following Jesus. \nFor those ready to worship in community\, we can’t wait to joyfully welcome you into our church space where every effort will be made to keep you safe.  We will continue to  live-stream our worship services on YouTube to accommodate those who are unable to join us in person. 
URL:https://clearviewchurch.com/event/worship-gathering-161/
END:VEVENT
BEGIN:VEVENT
DTSTART;TZID=America/Toronto:20260212T190000
DTEND;TZID=America/Toronto:20260212T203000
DTSTAMP:20260421T142124
CREATED:20251115T005352Z
LAST-MODIFIED:20260213T003716Z
UID:93596-1770922800-1770928200@clearviewchurch.com
SUMMARY:GEMS and Cadets
DESCRIPTION:
URL:https://clearviewchurch.com/event/gems-and-cadets-45/
END:VEVENT
BEGIN:VEVENT
DTSTART;TZID=America/Toronto:20260212T100000
DTEND;TZID=America/Toronto:20260212T120000
DTSTAMP:20260421T142124
CREATED:20260101T192305Z
LAST-MODIFIED:20260212T155214Z
UID:94721-1770890400-1770897600@clearviewchurch.com
SUMMARY:Pickleball
DESCRIPTION:
URL:https://clearviewchurch.com/event/pickleball-109/
END:VEVENT
BEGIN:VEVENT
DTSTART;TZID=America/Toronto:20260211T193000
DTEND;TZID=America/Toronto:20260211T210000
DTSTAMP:20260421T142124
CREATED:20260112T040801Z
LAST-MODIFIED:20260212T010717Z
UID:94997-1770838200-1770843600@clearviewchurch.com
SUMMARY:Young Adults - Cafe
DESCRIPTION:
URL:https://clearviewchurch.com/event/young-adults-cafe-5/
END:VEVENT
BEGIN:VEVENT
DTSTART;TZID=America/Toronto:20260211T100000
DTEND;TZID=America/Toronto:20260211T113000
DTSTAMP:20260421T142124
CREATED:20251113T002354Z
LAST-MODIFIED:20260211T160715Z
UID:93550-1770804000-1770809400@clearviewchurch.com
SUMMARY:Senior Circle
DESCRIPTION:ClearView Senior Circle meets for a time of fellowship and devotional encouragement. \nSenior Circle meets the second and fourth Wednesday of every month\, at 10:00 am. If you would like to be a part of this community of seniors\, contact Sharon Van Beilen at hsvanbeilen@gmail.com or Tineke Ruppel at 905-842-8430.
URL:https://clearviewchurch.com/event/senior-circle-30/
END:VEVENT
BEGIN:VEVENT
DTSTART;TZID=America/Toronto:20260209T190000
DTEND;TZID=America/Toronto:20260209T201500
DTSTAMP:20260421T142124
CREATED:20251112T005411Z
LAST-MODIFIED:20260210T005217Z
UID:93525-1770663600-1770668100@clearviewchurch.com
SUMMARY:Friendship
DESCRIPTION:Friendship Club\n\nClearView hosts a wonderful club on Monday nights for the purpose of sharing God’s love and care with people who have intellectual disabilities. \nOur Friends grow in their relationship with Christ and share their gifts as members of a church family alongside caring Christian mentors. Friendship Club is a fun place of singing\, praying\, dancing\, eating and learning more about God. New adult mentors are always welcome (no special degree is required—just a loving willingness to see others grow and thrive in a Christian environment). \nFriendship Club meets  Monday evenings 7–8:30 pm.If you are looking for a special place for someone you know\, or are interested in learning more about being a mentor\, contact    friendship@clearviewchurch.com).
URL:https://clearviewchurch.com/event/friendship-44/
END:VEVENT
END:VCALENDAR