BEGIN:VCALENDAR
VERSION:2.0
PRODID:-//ClearView Church Oakville - ECPv6.15.20//NONSGML v1.0//EN
CALSCALE:GREGORIAN
METHOD:PUBLISH
X-WR-CALNAME:ClearView Church Oakville
X-ORIGINAL-URL:https://clearviewchurch.com
X-WR-CALDESC:Events for ClearView Church Oakville
REFRESH-INTERVAL;VALUE=DURATION:PT1H
X-Robots-Tag:noindex
X-PUBLISHED-TTL:PT1H
BEGIN:VTIMEZONE
TZID:America/Toronto
BEGIN:DAYLIGHT
TZOFFSETFROM:-0500
TZOFFSETTO:-0400
TZNAME:EDT
DTSTART:20250309T070000
END:DAYLIGHT
BEGIN:STANDARD
TZOFFSETFROM:-0400
TZOFFSETTO:-0500
TZNAME:EST
DTSTART:20251102T060000
END:STANDARD
BEGIN:DAYLIGHT
TZOFFSETFROM:-0500
TZOFFSETTO:-0400
TZNAME:EDT
DTSTART:20260308T070000
END:DAYLIGHT
BEGIN:STANDARD
TZOFFSETFROM:-0400
TZOFFSETTO:-0500
TZNAME:EST
DTSTART:20261101T060000
END:STANDARD
BEGIN:DAYLIGHT
TZOFFSETFROM:-0500
TZOFFSETTO:-0400
TZNAME:EDT
DTSTART:20270314T070000
END:DAYLIGHT
BEGIN:STANDARD
TZOFFSETFROM:-0400
TZOFFSETTO:-0500
TZNAME:EST
DTSTART:20271107T060000
END:STANDARD
END:VTIMEZONE
BEGIN:VEVENT
DTSTART;TZID=America/Toronto:20260531T100000
DTEND;TZID=America/Toronto:20260531T113000
DTSTAMP:20260425T124959
CREATED:20260302T003914Z
LAST-MODIFIED:20260425T155259Z
UID:96200-1780221600-1780227000@clearviewchurch.com
SUMMARY:Worship Gathering
DESCRIPTION:Come join our community as we gather to worship in person and move forward together following Jesus. \nFor those ready to worship in community\, we can’t wait to joyfully welcome you into our church space where every effort will be made to keep you safe.  We will continue to  live-stream our worship services on YouTube to accommodate those who are unable to join us in person. 
URL:https://clearviewchurch.com/event/worship-gathering-176/
END:VEVENT
BEGIN:VEVENT
DTSTART;TZID=America/Toronto:20260531T183000
DTEND;TZID=America/Toronto:20260531T203000
DTSTAMP:20260425T124959
CREATED:20260302T003914Z
LAST-MODIFIED:20260425T155259Z
UID:96201-1780252200-1780259400@clearviewchurch.com
SUMMARY:Youth
DESCRIPTION:
URL:https://clearviewchurch.com/event/youth-50/
END:VEVENT
BEGIN:VEVENT
DTSTART;TZID=America/Toronto:20260601T093000
DTEND;TZID=America/Toronto:20260601T113000
DTSTAMP:20260425T124959
CREATED:20260420T160824Z
LAST-MODIFIED:20260425T155259Z
UID:97430-1780306200-1780313400@clearviewchurch.com
SUMMARY:Pickleball
DESCRIPTION:
URL:https://clearviewchurch.com/event/pickleball-169/
END:VEVENT
BEGIN:VEVENT
DTSTART;TZID=America/Toronto:20260601T100000
DTEND;TZID=America/Toronto:20260601T120000
DTSTAMP:20260425T124959
CREATED:20260303T002430Z
LAST-MODIFIED:20260420T145309Z
UID:96226-1780308000-1780315200@clearviewchurch.com
SUMMARY:Pickleball
DESCRIPTION:
URL:https://clearviewchurch.com/event/pickleball-140/
END:VEVENT
BEGIN:VEVENT
DTSTART;TZID=America/Toronto:20260601T100000
DTEND;TZID=America/Toronto:20260601T130000
DTSTAMP:20260425T124959
CREATED:20260303T002430Z
LAST-MODIFIED:20260425T155259Z
UID:96225-1780308000-1780318800@clearviewchurch.com
SUMMARY:Creative Sisters
DESCRIPTION:
URL:https://clearviewchurch.com/event/creative-sisters-123/
END:VEVENT
BEGIN:VEVENT
DTSTART;TZID=America/Toronto:20260602T093000
DTEND;TZID=America/Toronto:20260602T123000
DTSTAMP:20260425T124959
CREATED:20260420T160824Z
LAST-MODIFIED:20260421T192314Z
UID:97431-1780392600-1780403400@clearviewchurch.com
SUMMARY:Pickleball
DESCRIPTION:
URL:https://clearviewchurch.com/event/pickleball-170/
END:VEVENT
BEGIN:VEVENT
DTSTART;TZID=America/Toronto:20260603T193000
DTEND;TZID=America/Toronto:20260603T210000
DTSTAMP:20260425T124959
CREATED:20260305T002422Z
LAST-MODIFIED:20260425T155259Z
UID:96273-1780515000-1780520400@clearviewchurch.com
SUMMARY:Young Adults - Cafe
DESCRIPTION:
URL:https://clearviewchurch.com/event/young-adults-cafe-21/
END:VEVENT
BEGIN:VEVENT
DTSTART;TZID=America/Toronto:20260604T093000
DTEND;TZID=America/Toronto:20260604T123000
DTSTAMP:20260425T124959
CREATED:20260420T160825Z
LAST-MODIFIED:20260425T155259Z
UID:97432-1780565400-1780576200@clearviewchurch.com
SUMMARY:Pickleball
DESCRIPTION:
URL:https://clearviewchurch.com/event/pickleball-171/
END:VEVENT
BEGIN:VEVENT
DTSTART;TZID=America/Toronto:20260604T100000
DTEND;TZID=America/Toronto:20260604T120000
DTSTAMP:20260425T124959
CREATED:20260306T000912Z
LAST-MODIFIED:20260420T145309Z
UID:96296-1780567200-1780574400@clearviewchurch.com
SUMMARY:Pickleball
DESCRIPTION:
URL:https://clearviewchurch.com/event/pickleball-141/
END:VEVENT
BEGIN:VEVENT
DTSTART;TZID=America/Toronto:20260607T100000
DTEND;TZID=America/Toronto:20260607T113000
DTSTAMP:20260425T124959
CREATED:20260309T010912Z
LAST-MODIFIED:20260425T155259Z
UID:96362-1780826400-1780831800@clearviewchurch.com
SUMMARY:Worship Gathering
DESCRIPTION:Come join our community as we gather to worship in person and move forward together following Jesus. \nFor those ready to worship in community\, we can’t wait to joyfully welcome you into our church space where every effort will be made to keep you safe.  We will continue to  live-stream our worship services on YouTube to accommodate those who are unable to join us in person. 
URL:https://clearviewchurch.com/event/worship-gathering-177/
END:VEVENT
BEGIN:VEVENT
DTSTART;TZID=America/Toronto:20260608T093000
DTEND;TZID=America/Toronto:20260608T113000
DTSTAMP:20260425T124959
CREATED:20260420T160825Z
LAST-MODIFIED:20260425T155310Z
UID:97433-1780911000-1780918200@clearviewchurch.com
SUMMARY:Pickleball
DESCRIPTION:
URL:https://clearviewchurch.com/event/pickleball-172/
END:VEVENT
BEGIN:VEVENT
DTSTART;TZID=America/Toronto:20260608T100000
DTEND;TZID=America/Toronto:20260608T120000
DTSTAMP:20260425T124959
CREATED:20260310T000916Z
LAST-MODIFIED:20260420T145310Z
UID:96387-1780912800-1780920000@clearviewchurch.com
SUMMARY:Pickleball
DESCRIPTION:
URL:https://clearviewchurch.com/event/pickleball-142/
END:VEVENT
BEGIN:VEVENT
DTSTART;TZID=America/Toronto:20260608T100000
DTEND;TZID=America/Toronto:20260608T130000
DTSTAMP:20260425T124959
CREATED:20260310T000916Z
LAST-MODIFIED:20260425T155310Z
UID:96386-1780912800-1780923600@clearviewchurch.com
SUMMARY:Creative Sisters
DESCRIPTION:
URL:https://clearviewchurch.com/event/creative-sisters-124/
END:VEVENT
BEGIN:VEVENT
DTSTART;TZID=America/Toronto:20260609T093000
DTEND;TZID=America/Toronto:20260609T123000
DTSTAMP:20260425T124959
CREATED:20260420T160825Z
LAST-MODIFIED:20260421T192325Z
UID:97434-1780997400-1781008200@clearviewchurch.com
SUMMARY:Pickleball
DESCRIPTION:
URL:https://clearviewchurch.com/event/pickleball-173/
END:VEVENT
BEGIN:VEVENT
DTSTART;TZID=America/Toronto:20260610T100000
DTEND;TZID=America/Toronto:20260610T113000
DTSTAMP:20260425T124959
CREATED:20260312T005410Z
LAST-MODIFIED:20260425T155310Z
UID:96432-1781085600-1781091000@clearviewchurch.com
SUMMARY:Senior Circle
DESCRIPTION:ClearView Senior Circle meets for a time of fellowship and devotional encouragement. \nSenior Circle meets the second and fourth Wednesday of every month\, at 10:00 am. If you would like to be a part of this community of seniors\, contact Sharon Van Beilen at hsvanbeilen@gmail.com or Tineke Ruppel at 905-842-8430.
URL:https://clearviewchurch.com/event/senior-circle-38/
END:VEVENT
BEGIN:VEVENT
DTSTART;TZID=America/Toronto:20260610T193000
DTEND;TZID=America/Toronto:20260610T210000
DTSTAMP:20260425T124959
CREATED:20260312T005410Z
LAST-MODIFIED:20260425T155310Z
UID:96433-1781119800-1781125200@clearviewchurch.com
SUMMARY:Young Adults - Cafe
DESCRIPTION:
URL:https://clearviewchurch.com/event/young-adults-cafe-22/
END:VEVENT
BEGIN:VEVENT
DTSTART;TZID=America/Toronto:20260611T093000
DTEND;TZID=America/Toronto:20260611T123000
DTSTAMP:20260425T124959
CREATED:20260420T160836Z
LAST-MODIFIED:20260425T155310Z
UID:97435-1781170200-1781181000@clearviewchurch.com
SUMMARY:Pickleball
DESCRIPTION:
URL:https://clearviewchurch.com/event/pickleball-174/
END:VEVENT
BEGIN:VEVENT
DTSTART;TZID=America/Toronto:20260611T100000
DTEND;TZID=America/Toronto:20260611T120000
DTSTAMP:20260425T124959
CREATED:20260313T003858Z
LAST-MODIFIED:20260420T145321Z
UID:96462-1781172000-1781179200@clearviewchurch.com
SUMMARY:Pickleball
DESCRIPTION:
URL:https://clearviewchurch.com/event/pickleball-143/
END:VEVENT
BEGIN:VEVENT
DTSTART;TZID=America/Toronto:20260614T100000
DTEND;TZID=America/Toronto:20260614T113000
DTSTAMP:20260425T124959
CREATED:20260316T003901Z
LAST-MODIFIED:20260425T155310Z
UID:96528-1781431200-1781436600@clearviewchurch.com
SUMMARY:Worship Gathering
DESCRIPTION:Come join our community as we gather to worship in person and move forward together following Jesus. \nFor those ready to worship in community\, we can’t wait to joyfully welcome you into our church space where every effort will be made to keep you safe.  We will continue to  live-stream our worship services on YouTube to accommodate those who are unable to join us in person. 
URL:https://clearviewchurch.com/event/worship-gathering-178/
END:VEVENT
BEGIN:VEVENT
DTSTART;TZID=America/Toronto:20260615T093000
DTEND;TZID=America/Toronto:20260615T113000
DTSTAMP:20260425T124959
CREATED:20260420T160836Z
LAST-MODIFIED:20260425T155310Z
UID:97436-1781515800-1781523000@clearviewchurch.com
SUMMARY:Pickleball
DESCRIPTION:
URL:https://clearviewchurch.com/event/pickleball-175/
END:VEVENT
BEGIN:VEVENT
DTSTART;TZID=America/Toronto:20260615T100000
DTEND;TZID=America/Toronto:20260615T120000
DTSTAMP:20260425T124959
CREATED:20260317T010902Z
LAST-MODIFIED:20260420T145321Z
UID:96554-1781517600-1781524800@clearviewchurch.com
SUMMARY:Pickleball
DESCRIPTION:
URL:https://clearviewchurch.com/event/pickleball-144/
END:VEVENT
BEGIN:VEVENT
DTSTART;TZID=America/Toronto:20260615T100000
DTEND;TZID=America/Toronto:20260615T130000
DTSTAMP:20260425T124959
CREATED:20260317T010901Z
LAST-MODIFIED:20260425T155310Z
UID:96553-1781517600-1781528400@clearviewchurch.com
SUMMARY:Creative Sisters
DESCRIPTION:
URL:https://clearviewchurch.com/event/creative-sisters-125/
END:VEVENT
BEGIN:VEVENT
DTSTART;TZID=America/Toronto:20260616T093000
DTEND;TZID=America/Toronto:20260616T123000
DTSTAMP:20260425T124959
CREATED:20260420T160836Z
LAST-MODIFIED:20260421T192337Z
UID:97437-1781602200-1781613000@clearviewchurch.com
SUMMARY:Pickleball
DESCRIPTION:
URL:https://clearviewchurch.com/event/pickleball-176/
END:VEVENT
BEGIN:VEVENT
DTSTART;TZID=America/Toronto:20260617T193000
DTEND;TZID=America/Toronto:20260617T210000
DTSTAMP:20260425T124959
CREATED:20260319T000920Z
LAST-MODIFIED:20260425T155310Z
UID:96598-1781724600-1781730000@clearviewchurch.com
SUMMARY:Young Adults - Cafe
DESCRIPTION:
URL:https://clearviewchurch.com/event/young-adults-cafe-23/
END:VEVENT
BEGIN:VEVENT
DTSTART;TZID=America/Toronto:20260618T093000
DTEND;TZID=America/Toronto:20260618T123000
DTSTAMP:20260425T124959
CREATED:20260420T160837Z
LAST-MODIFIED:20260425T155310Z
UID:97438-1781775000-1781785800@clearviewchurch.com
SUMMARY:Pickleball
DESCRIPTION:
URL:https://clearviewchurch.com/event/pickleball-177/
END:VEVENT
BEGIN:VEVENT
DTSTART;TZID=America/Toronto:20260618T100000
DTEND;TZID=America/Toronto:20260618T120000
DTSTAMP:20260425T124959
CREATED:20260320T002404Z
LAST-MODIFIED:20260420T145321Z
UID:96622-1781776800-1781784000@clearviewchurch.com
SUMMARY:Pickleball
DESCRIPTION:
URL:https://clearviewchurch.com/event/pickleball-145/
END:VEVENT
BEGIN:VEVENT
DTSTART;TZID=America/Toronto:20260618T191500
DTEND;TZID=America/Toronto:20260618T201500
DTSTAMP:20260425T124959
CREATED:20260320T002405Z
LAST-MODIFIED:20260425T155321Z
UID:96623-1781810100-1781813700@clearviewchurch.com
SUMMARY:Prayer and Worship Night
DESCRIPTION:
URL:https://clearviewchurch.com/event/prayer-and-worship-night-10/
END:VEVENT
BEGIN:VEVENT
DTSTART;TZID=America/Toronto:20260621T100000
DTEND;TZID=America/Toronto:20260621T113000
DTSTAMP:20260425T124959
CREATED:20260323T002410Z
LAST-MODIFIED:20260425T155321Z
UID:96703-1782036000-1782041400@clearviewchurch.com
SUMMARY:Worship Gathering
DESCRIPTION:Come join our community as we gather to worship in person and move forward together following Jesus. \nFor those ready to worship in community\, we can’t wait to joyfully welcome you into our church space where every effort will be made to keep you safe.  We will continue to  live-stream our worship services on YouTube to accommodate those who are unable to join us in person. 
URL:https://clearviewchurch.com/event/worship-gathering-179/
END:VEVENT
BEGIN:VEVENT
DTSTART;TZID=America/Toronto:20260622T093000
DTEND;TZID=America/Toronto:20260622T113000
DTSTAMP:20260425T124959
CREATED:20260420T160848Z
LAST-MODIFIED:20260425T155321Z
UID:97439-1782120600-1782127800@clearviewchurch.com
SUMMARY:Pickleball
DESCRIPTION:
URL:https://clearviewchurch.com/event/pickleball-178/
END:VEVENT
BEGIN:VEVENT
DTSTART;TZID=America/Toronto:20260622T100000
DTEND;TZID=America/Toronto:20260622T120000
DTSTAMP:20260425T124959
CREATED:20260324T002412Z
LAST-MODIFIED:20260420T145333Z
UID:96727-1782122400-1782129600@clearviewchurch.com
SUMMARY:Pickleball
DESCRIPTION:
URL:https://clearviewchurch.com/event/pickleball-146/
END:VEVENT
END:VCALENDAR