BEGIN:VCALENDAR
VERSION:2.0
PRODID:-//ClearView Church Oakville - ECPv6.15.20//NONSGML v1.0//EN
CALSCALE:GREGORIAN
METHOD:PUBLISH
X-WR-CALNAME:ClearView Church Oakville
X-ORIGINAL-URL:https://clearviewchurch.com
X-WR-CALDESC:Events for ClearView Church Oakville
REFRESH-INTERVAL;VALUE=DURATION:PT1H
X-Robots-Tag:noindex
X-PUBLISHED-TTL:PT1H
BEGIN:VTIMEZONE
TZID:America/Toronto
BEGIN:DAYLIGHT
TZOFFSETFROM:-0500
TZOFFSETTO:-0400
TZNAME:EDT
DTSTART:20250309T070000
END:DAYLIGHT
BEGIN:STANDARD
TZOFFSETFROM:-0400
TZOFFSETTO:-0500
TZNAME:EST
DTSTART:20251102T060000
END:STANDARD
BEGIN:DAYLIGHT
TZOFFSETFROM:-0500
TZOFFSETTO:-0400
TZNAME:EDT
DTSTART:20260308T070000
END:DAYLIGHT
BEGIN:STANDARD
TZOFFSETFROM:-0400
TZOFFSETTO:-0500
TZNAME:EST
DTSTART:20261101T060000
END:STANDARD
BEGIN:DAYLIGHT
TZOFFSETFROM:-0500
TZOFFSETTO:-0400
TZNAME:EDT
DTSTART:20270314T070000
END:DAYLIGHT
BEGIN:STANDARD
TZOFFSETFROM:-0400
TZOFFSETTO:-0500
TZNAME:EST
DTSTART:20271107T060000
END:STANDARD
END:VTIMEZONE
BEGIN:VEVENT
DTSTART;TZID=America/Toronto:20260420T100000
DTEND;TZID=America/Toronto:20260420T120000
DTSTAMP:20260421T125553
CREATED:20260120T010926Z
LAST-MODIFIED:20260420T145211Z
UID:95192-1776679200-1776686400@clearviewchurch.com
SUMMARY:Pickleball
DESCRIPTION:
URL:https://clearviewchurch.com/event/pickleball-128/
END:VEVENT
BEGIN:VEVENT
DTSTART;TZID=America/Toronto:20260420T100000
DTEND;TZID=America/Toronto:20260420T130000
DTSTAMP:20260421T125553
CREATED:20260120T010926Z
LAST-MODIFIED:20260420T160712Z
UID:95193-1776679200-1776690000@clearviewchurch.com
SUMMARY:Creative Sisters
DESCRIPTION:
URL:https://clearviewchurch.com/event/creative-sisters-117/
END:VEVENT
BEGIN:VEVENT
DTSTART;TZID=America/Toronto:20260420T190000
DTEND;TZID=America/Toronto:20260420T201500
DTSTAMP:20260421T125553
CREATED:20260120T010926Z
LAST-MODIFIED:20260420T235212Z
UID:95194-1776711600-1776716100@clearviewchurch.com
SUMMARY:Friendship
DESCRIPTION:Friendship Club\n\nClearView hosts a wonderful club on Monday nights for the purpose of sharing God’s love and care with people who have intellectual disabilities. \nOur Friends grow in their relationship with Christ and share their gifts as members of a church family alongside caring Christian mentors. Friendship Club is a fun place of singing\, praying\, dancing\, eating and learning more about God. New adult mentors are always welcome (no special degree is required—just a loving willingness to see others grow and thrive in a Christian environment). \nFriendship Club meets  Monday evenings 7–8:30 pm.If you are looking for a special place for someone you know\, or are interested in learning more about being a mentor\, contact    friendship@clearviewchurch.com).
URL:https://clearviewchurch.com/event/friendship-52/
END:VEVENT
BEGIN:VEVENT
DTSTART;TZID=America/Toronto:20260421T093000
DTEND;TZID=America/Toronto:20260421T123000
DTSTAMP:20260421T125553
CREATED:20260420T160712Z
LAST-MODIFIED:20260421T160712Z
UID:97413-1776763800-1776774600@clearviewchurch.com
SUMMARY:Pickleball
DESCRIPTION:
URL:https://clearviewchurch.com/event/pickleball-153/
END:VEVENT
BEGIN:VEVENT
DTSTART;TZID=America/Toronto:20260421T183000
DTEND;TZID=America/Toronto:20260421T200000
DTSTAMP:20260421T125553
CREATED:20260416T145210Z
LAST-MODIFIED:20260421T160712Z
UID:97306-1776796200-1776801600@clearviewchurch.com
SUMMARY:Sports League
DESCRIPTION:
URL:https://clearviewchurch.com/event/sports-league-34/
END:VEVENT
BEGIN:VEVENT
DTSTART;TZID=America/Toronto:20260422T100000
DTEND;TZID=America/Toronto:20260422T113000
DTSTAMP:20260421T125553
CREATED:20260122T003925Z
LAST-MODIFIED:20260421T160712Z
UID:95240-1776852000-1776857400@clearviewchurch.com
SUMMARY:Senior Circle
DESCRIPTION:ClearView Senior Circle meets for a time of fellowship and devotional encouragement. \nSenior Circle meets the second and fourth Wednesday of every month\, at 10:00 am. If you would like to be a part of this community of seniors\, contact Sharon Van Beilen at hsvanbeilen@gmail.com or Tineke Ruppel at 905-842-8430.
URL:https://clearviewchurch.com/event/senior-circle-35/
END:VEVENT
BEGIN:VEVENT
DTSTART;TZID=America/Toronto:20260422T193000
DTEND;TZID=America/Toronto:20260422T210000
DTSTAMP:20260421T125553
CREATED:20260122T003925Z
LAST-MODIFIED:20260421T160712Z
UID:95241-1776886200-1776891600@clearviewchurch.com
SUMMARY:Young Adults - Cafe
DESCRIPTION:
URL:https://clearviewchurch.com/event/young-adults-cafe-15/
END:VEVENT
BEGIN:VEVENT
DTSTART;TZID=America/Toronto:20260423T100000
DTEND;TZID=America/Toronto:20260423T120000
DTSTAMP:20260421T125553
CREATED:20260123T005427Z
LAST-MODIFIED:20260421T160712Z
UID:95264-1776938400-1776945600@clearviewchurch.com
SUMMARY:Pickleball
DESCRIPTION:
URL:https://clearviewchurch.com/event/pickleball-129/
END:VEVENT
BEGIN:VEVENT
DTSTART;TZID=America/Toronto:20260423T183000
DTEND;TZID=America/Toronto:20260423T203000
DTSTAMP:20260421T125553
CREATED:20260420T160712Z
LAST-MODIFIED:20260421T160712Z
UID:97414-1776969000-1776976200@clearviewchurch.com
SUMMARY:Deacons Cafe Helping without Harming
DESCRIPTION:
URL:https://clearviewchurch.com/event/deacons-cafe-helping-without-harming/
END:VEVENT
BEGIN:VEVENT
DTSTART;TZID=America/Toronto:20260423T190000
DTEND;TZID=America/Toronto:20260423T203000
DTSTAMP:20260421T125553
CREATED:20260123T005427Z
LAST-MODIFIED:20260421T160712Z
UID:95265-1776970800-1776976200@clearviewchurch.com
SUMMARY:GEMS and Cadets
DESCRIPTION:
URL:https://clearviewchurch.com/event/gems-and-cadets-52/
END:VEVENT
BEGIN:VEVENT
DTSTART;TZID=America/Toronto:20260423T193000
DTEND;TZID=America/Toronto:20260423T210000
DTSTAMP:20260421T125553
CREATED:20260420T145211Z
LAST-MODIFIED:20260421T160712Z
UID:97409-1776972600-1776978000@clearviewchurch.com
SUMMARY:Baptism and Profession of Faith Class
DESCRIPTION:
URL:https://clearviewchurch.com/event/baptism-and-profession-of-faith-class-2/
END:VEVENT
BEGIN:VEVENT
DTSTART;TZID=America/Toronto:20260426T100000
DTEND;TZID=America/Toronto:20260426T113000
DTSTAMP:20260421T125553
CREATED:20260126T005427Z
LAST-MODIFIED:20260421T160712Z
UID:95334-1777197600-1777203000@clearviewchurch.com
SUMMARY:Worship Gathering
DESCRIPTION:Come join our community as we gather to worship in person and move forward together following Jesus. \nFor those ready to worship in community\, we can’t wait to joyfully welcome you into our church space where every effort will be made to keep you safe.  We will continue to  live-stream our worship services on YouTube to accommodate those who are unable to join us in person. 
URL:https://clearviewchurch.com/event/worship-gathering-171/
END:VEVENT
BEGIN:VEVENT
DTSTART;TZID=America/Toronto:20260426T183000
DTEND;TZID=America/Toronto:20260426T203000
DTSTAMP:20260421T125553
CREATED:20260126T005428Z
LAST-MODIFIED:20260421T160713Z
UID:95335-1777228200-1777235400@clearviewchurch.com
SUMMARY:Youth
DESCRIPTION:
URL:https://clearviewchurch.com/event/youth-45/
END:VEVENT
BEGIN:VEVENT
DTSTART;TZID=America/Toronto:20260427T093000
DTEND;TZID=America/Toronto:20260427T113000
DTSTAMP:20260421T125553
CREATED:20260420T160725Z
LAST-MODIFIED:20260421T160724Z
UID:97415-1777282200-1777289400@clearviewchurch.com
SUMMARY:Pickleball
DESCRIPTION:
URL:https://clearviewchurch.com/event/pickleball-154/
END:VEVENT
BEGIN:VEVENT
DTSTART;TZID=America/Toronto:20260427T100000
DTEND;TZID=America/Toronto:20260427T120000
DTSTAMP:20260421T125553
CREATED:20260127T005425Z
LAST-MODIFIED:20260420T145223Z
UID:95370-1777284000-1777291200@clearviewchurch.com
SUMMARY:Pickleball
DESCRIPTION:
URL:https://clearviewchurch.com/event/pickleball-130/
END:VEVENT
BEGIN:VEVENT
DTSTART;TZID=America/Toronto:20260427T100000
DTEND;TZID=America/Toronto:20260427T130000
DTSTAMP:20260421T125553
CREATED:20260127T005425Z
LAST-MODIFIED:20260421T160724Z
UID:95369-1777284000-1777294800@clearviewchurch.com
SUMMARY:Creative Sisters
DESCRIPTION:
URL:https://clearviewchurch.com/event/creative-sisters-118/
END:VEVENT
BEGIN:VEVENT
DTSTART;TZID=America/Toronto:20260427T190000
DTEND;TZID=America/Toronto:20260427T201500
DTSTAMP:20260421T125553
CREATED:20260127T005426Z
LAST-MODIFIED:20260421T160725Z
UID:95371-1777316400-1777320900@clearviewchurch.com
SUMMARY:Friendship
DESCRIPTION:Friendship Club\n\nClearView hosts a wonderful club on Monday nights for the purpose of sharing God’s love and care with people who have intellectual disabilities. \nOur Friends grow in their relationship with Christ and share their gifts as members of a church family alongside caring Christian mentors. Friendship Club is a fun place of singing\, praying\, dancing\, eating and learning more about God. New adult mentors are always welcome (no special degree is required—just a loving willingness to see others grow and thrive in a Christian environment). \nFriendship Club meets  Monday evenings 7–8:30 pm.If you are looking for a special place for someone you know\, or are interested in learning more about being a mentor\, contact    friendship@clearviewchurch.com).
URL:https://clearviewchurch.com/event/friendship-53/
END:VEVENT
BEGIN:VEVENT
DTSTART;TZID=America/Toronto:20260428T093000
DTEND;TZID=America/Toronto:20260428T123000
DTSTAMP:20260421T125553
CREATED:20260420T160725Z
LAST-MODIFIED:20260421T160725Z
UID:97416-1777368600-1777379400@clearviewchurch.com
SUMMARY:Pickleball
DESCRIPTION:
URL:https://clearviewchurch.com/event/pickleball-155/
END:VEVENT
BEGIN:VEVENT
DTSTART;TZID=America/Toronto:20260428T183000
DTEND;TZID=America/Toronto:20260428T200000
DTSTAMP:20260421T125553
CREATED:20260416T145222Z
LAST-MODIFIED:20260421T160725Z
UID:97307-1777401000-1777406400@clearviewchurch.com
SUMMARY:Sports League
DESCRIPTION:
URL:https://clearviewchurch.com/event/sports-league-35/
END:VEVENT
BEGIN:VEVENT
DTSTART;TZID=America/Toronto:20260429T193000
DTEND;TZID=America/Toronto:20260429T210000
DTSTAMP:20260421T125553
CREATED:20260129T005434Z
LAST-MODIFIED:20260421T160725Z
UID:95463-1777491000-1777496400@clearviewchurch.com
SUMMARY:Young Adults - Cafe
DESCRIPTION:
URL:https://clearviewchurch.com/event/young-adults-cafe-16/
END:VEVENT
BEGIN:VEVENT
DTSTART;TZID=America/Toronto:20260430T093000
DTEND;TZID=America/Toronto:20260430T123000
DTSTAMP:20260421T125553
CREATED:20260420T160725Z
LAST-MODIFIED:20260421T160725Z
UID:97417-1777541400-1777552200@clearviewchurch.com
SUMMARY:Pickleball
DESCRIPTION:
URL:https://clearviewchurch.com/event/pickleball-156/
END:VEVENT
BEGIN:VEVENT
DTSTART;TZID=America/Toronto:20260430T100000
DTEND;TZID=America/Toronto:20260430T120000
DTSTAMP:20260421T125553
CREATED:20260130T002430Z
LAST-MODIFIED:20260420T145223Z
UID:95486-1777543200-1777550400@clearviewchurch.com
SUMMARY:Pickleball
DESCRIPTION:
URL:https://clearviewchurch.com/event/pickleball-131/
END:VEVENT
BEGIN:VEVENT
DTSTART;TZID=America/Toronto:20260430T193000
DTEND;TZID=America/Toronto:20260430T210000
DTSTAMP:20260421T125553
CREATED:20260420T145223Z
LAST-MODIFIED:20260421T160725Z
UID:97410-1777577400-1777582800@clearviewchurch.com
SUMMARY:Baptism and Profession of Faith Class
DESCRIPTION:
URL:https://clearviewchurch.com/event/baptism-and-profession-of-faith-class-3/
END:VEVENT
BEGIN:VEVENT
DTSTART;TZID=America/Toronto:20260503T100000
DTEND;TZID=America/Toronto:20260503T113000
DTSTAMP:20260421T125553
CREATED:20260202T003929Z
LAST-MODIFIED:20260421T160725Z
UID:95552-1777802400-1777807800@clearviewchurch.com
SUMMARY:Worship Gathering
DESCRIPTION:Come join our community as we gather to worship in person and move forward together following Jesus. \nFor those ready to worship in community\, we can’t wait to joyfully welcome you into our church space where every effort will be made to keep you safe.  We will continue to  live-stream our worship services on YouTube to accommodate those who are unable to join us in person. 
URL:https://clearviewchurch.com/event/worship-gathering-172/
END:VEVENT
BEGIN:VEVENT
DTSTART;TZID=America/Toronto:20260503T183000
DTEND;TZID=America/Toronto:20260503T203000
DTSTAMP:20260421T125553
CREATED:20260202T003929Z
LAST-MODIFIED:20260421T160725Z
UID:95553-1777833000-1777840200@clearviewchurch.com
SUMMARY:Youth
DESCRIPTION:
URL:https://clearviewchurch.com/event/youth-46/
END:VEVENT
BEGIN:VEVENT
DTSTART;TZID=America/Toronto:20260504T093000
DTEND;TZID=America/Toronto:20260504T113000
DTSTAMP:20260421T125553
CREATED:20260420T160737Z
LAST-MODIFIED:20260421T160736Z
UID:97418-1777887000-1777894200@clearviewchurch.com
SUMMARY:Pickleball
DESCRIPTION:
URL:https://clearviewchurch.com/event/pickleball-157/
END:VEVENT
BEGIN:VEVENT
DTSTART;TZID=America/Toronto:20260504T100000
DTEND;TZID=America/Toronto:20260504T120000
DTSTAMP:20260421T125553
CREATED:20260203T002440Z
LAST-MODIFIED:20260420T145234Z
UID:95576-1777888800-1777896000@clearviewchurch.com
SUMMARY:Pickleball
DESCRIPTION:
URL:https://clearviewchurch.com/event/pickleball-132/
END:VEVENT
BEGIN:VEVENT
DTSTART;TZID=America/Toronto:20260504T100000
DTEND;TZID=America/Toronto:20260504T130000
DTSTAMP:20260421T125553
CREATED:20260203T002429Z
LAST-MODIFIED:20260421T160736Z
UID:95575-1777888800-1777899600@clearviewchurch.com
SUMMARY:Creative Sisters
DESCRIPTION:
URL:https://clearviewchurch.com/event/creative-sisters-119/
END:VEVENT
BEGIN:VEVENT
DTSTART;TZID=America/Toronto:20260504T190000
DTEND;TZID=America/Toronto:20260504T201500
DTSTAMP:20260421T125553
CREATED:20260203T002440Z
LAST-MODIFIED:20260421T160737Z
UID:95577-1777921200-1777925700@clearviewchurch.com
SUMMARY:Friendship
DESCRIPTION:Friendship Club\n\nClearView hosts a wonderful club on Monday nights for the purpose of sharing God’s love and care with people who have intellectual disabilities. \nOur Friends grow in their relationship with Christ and share their gifts as members of a church family alongside caring Christian mentors. Friendship Club is a fun place of singing\, praying\, dancing\, eating and learning more about God. New adult mentors are always welcome (no special degree is required—just a loving willingness to see others grow and thrive in a Christian environment). \nFriendship Club meets  Monday evenings 7–8:30 pm.If you are looking for a special place for someone you know\, or are interested in learning more about being a mentor\, contact    friendship@clearviewchurch.com).
URL:https://clearviewchurch.com/event/friendship-54/
END:VEVENT
BEGIN:VEVENT
DTSTART;TZID=America/Toronto:20260505T093000
DTEND;TZID=America/Toronto:20260505T123000
DTSTAMP:20260421T125553
CREATED:20260420T160738Z
LAST-MODIFIED:20260421T160737Z
UID:97419-1777973400-1777984200@clearviewchurch.com
SUMMARY:Pickleball
DESCRIPTION:
URL:https://clearviewchurch.com/event/pickleball-158/
END:VEVENT
END:VCALENDAR