BEGIN:VCALENDAR
VERSION:2.0
PRODID:-//ClearView Church Oakville - ECPv6.15.20//NONSGML v1.0//EN
CALSCALE:GREGORIAN
METHOD:PUBLISH
X-WR-CALNAME:ClearView Church Oakville
X-ORIGINAL-URL:https://clearviewchurch.com
X-WR-CALDESC:Events for ClearView Church Oakville
REFRESH-INTERVAL;VALUE=DURATION:PT1H
X-Robots-Tag:noindex
X-PUBLISHED-TTL:PT1H
BEGIN:VTIMEZONE
TZID:America/Toronto
BEGIN:DAYLIGHT
TZOFFSETFROM:-0500
TZOFFSETTO:-0400
TZNAME:EDT
DTSTART:20250309T070000
END:DAYLIGHT
BEGIN:STANDARD
TZOFFSETFROM:-0400
TZOFFSETTO:-0500
TZNAME:EST
DTSTART:20251102T060000
END:STANDARD
BEGIN:DAYLIGHT
TZOFFSETFROM:-0500
TZOFFSETTO:-0400
TZNAME:EDT
DTSTART:20260308T070000
END:DAYLIGHT
BEGIN:STANDARD
TZOFFSETFROM:-0400
TZOFFSETTO:-0500
TZNAME:EST
DTSTART:20261101T060000
END:STANDARD
BEGIN:DAYLIGHT
TZOFFSETFROM:-0500
TZOFFSETTO:-0400
TZNAME:EDT
DTSTART:20270314T070000
END:DAYLIGHT
BEGIN:STANDARD
TZOFFSETFROM:-0400
TZOFFSETTO:-0500
TZNAME:EST
DTSTART:20271107T060000
END:STANDARD
END:VTIMEZONE
BEGIN:VEVENT
DTSTART;TZID=America/Toronto:20260505T093000
DTEND;TZID=America/Toronto:20260505T123000
DTSTAMP:20260421T142106
CREATED:20260420T160738Z
LAST-MODIFIED:20260421T172235Z
UID:97419-1777973400-1777984200@clearviewchurch.com
SUMMARY:Pickleball
DESCRIPTION:
URL:https://clearviewchurch.com/event/pickleball-158/
END:VEVENT
BEGIN:VEVENT
DTSTART;TZID=America/Toronto:20260505T183000
DTEND;TZID=America/Toronto:20260505T200000
DTSTAMP:20260421T142106
CREATED:20260416T145233Z
LAST-MODIFIED:20260421T172236Z
UID:97308-1778005800-1778011200@clearviewchurch.com
SUMMARY:Sports League
DESCRIPTION:
URL:https://clearviewchurch.com/event/sports-league-36/
END:VEVENT
BEGIN:VEVENT
DTSTART;TZID=America/Toronto:20260506T193000
DTEND;TZID=America/Toronto:20260506T210000
DTSTAMP:20260421T142106
CREATED:20260205T002433Z
LAST-MODIFIED:20260421T172236Z
UID:95621-1778095800-1778101200@clearviewchurch.com
SUMMARY:Young Adults - Cafe
DESCRIPTION:
URL:https://clearviewchurch.com/event/young-adults-cafe-17/
END:VEVENT
BEGIN:VEVENT
DTSTART;TZID=America/Toronto:20260507T093000
DTEND;TZID=America/Toronto:20260507T123000
DTSTAMP:20260421T142106
CREATED:20260420T160738Z
LAST-MODIFIED:20260421T172236Z
UID:97420-1778146200-1778157000@clearviewchurch.com
SUMMARY:Pickleball
DESCRIPTION:
URL:https://clearviewchurch.com/event/pickleball-159/
END:VEVENT
BEGIN:VEVENT
DTSTART;TZID=America/Toronto:20260507T100000
DTEND;TZID=America/Toronto:20260507T120000
DTSTAMP:20260421T142106
CREATED:20260206T000919Z
LAST-MODIFIED:20260420T145235Z
UID:95643-1778148000-1778155200@clearviewchurch.com
SUMMARY:Pickleball
DESCRIPTION:
URL:https://clearviewchurch.com/event/pickleball-133/
END:VEVENT
BEGIN:VEVENT
DTSTART;TZID=America/Toronto:20260507T190000
DTEND;TZID=America/Toronto:20260507T210000
DTSTAMP:20260421T142106
CREATED:20260416T145233Z
LAST-MODIFIED:20260421T172236Z
UID:97309-1778180400-1778187600@clearviewchurch.com
SUMMARY:Stewardship Committee - Will Clinic
DESCRIPTION:
URL:https://clearviewchurch.com/event/stewardship-committee-will-clinic/
END:VEVENT
BEGIN:VEVENT
DTSTART;TZID=America/Toronto:20260507T193000
DTEND;TZID=America/Toronto:20260507T210000
DTSTAMP:20260421T142106
CREATED:20260420T145235Z
LAST-MODIFIED:20260421T172236Z
UID:97411-1778182200-1778187600@clearviewchurch.com
SUMMARY:Baptism and Profession of Faith Class
DESCRIPTION:
URL:https://clearviewchurch.com/event/baptism-and-profession-of-faith-class-4/
END:VEVENT
BEGIN:VEVENT
DTSTART;TZID=America/Toronto:20260510T100000
DTEND;TZID=America/Toronto:20260510T113000
DTSTAMP:20260421T142106
CREATED:20260209T003914Z
LAST-MODIFIED:20260421T172236Z
UID:95709-1778407200-1778412600@clearviewchurch.com
SUMMARY:Worship Gathering
DESCRIPTION:Come join our community as we gather to worship in person and move forward together following Jesus. \nFor those ready to worship in community\, we can’t wait to joyfully welcome you into our church space where every effort will be made to keep you safe.  We will continue to  live-stream our worship services on YouTube to accommodate those who are unable to join us in person. 
URL:https://clearviewchurch.com/event/worship-gathering-173/
END:VEVENT
BEGIN:VEVENT
DTSTART;TZID=America/Toronto:20260510T183000
DTEND;TZID=America/Toronto:20260510T203000
DTSTAMP:20260421T142106
CREATED:20260209T003914Z
LAST-MODIFIED:20260421T172236Z
UID:95710-1778437800-1778445000@clearviewchurch.com
SUMMARY:Youth
DESCRIPTION:
URL:https://clearviewchurch.com/event/youth-47/
END:VEVENT
BEGIN:VEVENT
DTSTART;TZID=America/Toronto:20260511T093000
DTEND;TZID=America/Toronto:20260511T113000
DTSTAMP:20260421T142106
CREATED:20260420T160749Z
LAST-MODIFIED:20260421T172248Z
UID:97421-1778491800-1778499000@clearviewchurch.com
SUMMARY:Pickleball
DESCRIPTION:
URL:https://clearviewchurch.com/event/pickleball-160/
END:VEVENT
BEGIN:VEVENT
DTSTART;TZID=America/Toronto:20260511T100000
DTEND;TZID=America/Toronto:20260511T120000
DTSTAMP:20260421T142106
CREATED:20260210T005421Z
LAST-MODIFIED:20260420T145246Z
UID:95733-1778493600-1778500800@clearviewchurch.com
SUMMARY:Pickleball
DESCRIPTION:
URL:https://clearviewchurch.com/event/pickleball-134/
END:VEVENT
BEGIN:VEVENT
DTSTART;TZID=America/Toronto:20260511T100000
DTEND;TZID=America/Toronto:20260511T130000
DTSTAMP:20260421T142106
CREATED:20260210T005420Z
LAST-MODIFIED:20260421T172248Z
UID:95732-1778493600-1778504400@clearviewchurch.com
SUMMARY:Creative Sisters
DESCRIPTION:
URL:https://clearviewchurch.com/event/creative-sisters-120/
END:VEVENT
BEGIN:VEVENT
DTSTART;TZID=America/Toronto:20260511T190000
DTEND;TZID=America/Toronto:20260511T201500
DTSTAMP:20260421T142106
CREATED:20260210T005421Z
LAST-MODIFIED:20260421T172248Z
UID:95734-1778526000-1778530500@clearviewchurch.com
SUMMARY:Friendship Dance - Last meeting of season
DESCRIPTION:Friendship Club\n\nClearView hosts a wonderful club on Monday nights for the purpose of sharing God’s love and care with people who have intellectual disabilities. \nOur Friends grow in their relationship with Christ and share their gifts as members of a church family alongside caring Christian mentors. Friendship Club is a fun place of singing\, praying\, dancing\, eating and learning more about God. New adult mentors are always welcome (no special degree is required—just a loving willingness to see others grow and thrive in a Christian environment). \nFriendship Club meets  Monday evenings 7–8:30 pm.If you are looking for a special place for someone you know\, or are interested in learning more about being a mentor\, contact    friendship@clearviewchurch.com).
URL:https://clearviewchurch.com/event/friendship-55/
END:VEVENT
BEGIN:VEVENT
DTSTART;TZID=America/Toronto:20260512T093000
DTEND;TZID=America/Toronto:20260512T123000
DTSTAMP:20260421T142106
CREATED:20260420T160749Z
LAST-MODIFIED:20260421T172248Z
UID:97422-1778578200-1778589000@clearviewchurch.com
SUMMARY:Pickleball
DESCRIPTION:
URL:https://clearviewchurch.com/event/pickleball-161/
END:VEVENT
BEGIN:VEVENT
DTSTART;TZID=America/Toronto:20260512T183000
DTEND;TZID=America/Toronto:20260512T200000
DTSTAMP:20260421T142106
CREATED:20260416T145245Z
LAST-MODIFIED:20260421T172248Z
UID:97310-1778610600-1778616000@clearviewchurch.com
SUMMARY:Sports League
DESCRIPTION:
URL:https://clearviewchurch.com/event/sports-league-37/
END:VEVENT
BEGIN:VEVENT
DTSTART;TZID=America/Toronto:20260513T100000
DTEND;TZID=America/Toronto:20260513T113000
DTSTAMP:20260421T142106
CREATED:20260212T010921Z
LAST-MODIFIED:20260421T172248Z
UID:95782-1778666400-1778671800@clearviewchurch.com
SUMMARY:Senior Circle
DESCRIPTION:ClearView Senior Circle meets for a time of fellowship and devotional encouragement. \nSenior Circle meets the second and fourth Wednesday of every month\, at 10:00 am. If you would like to be a part of this community of seniors\, contact Sharon Van Beilen at hsvanbeilen@gmail.com or Tineke Ruppel at 905-842-8430.
URL:https://clearviewchurch.com/event/senior-circle-36/
END:VEVENT
BEGIN:VEVENT
DTSTART;TZID=America/Toronto:20260513T193000
DTEND;TZID=America/Toronto:20260513T210000
DTSTAMP:20260421T142106
CREATED:20260212T010921Z
LAST-MODIFIED:20260421T172248Z
UID:95783-1778700600-1778706000@clearviewchurch.com
SUMMARY:Young Adults - Cafe
DESCRIPTION:
URL:https://clearviewchurch.com/event/young-adults-cafe-18/
END:VEVENT
BEGIN:VEVENT
DTSTART;TZID=America/Toronto:20260514T093000
DTEND;TZID=America/Toronto:20260514T123000
DTSTAMP:20260421T142106
CREATED:20260420T160800Z
LAST-MODIFIED:20260421T172248Z
UID:97423-1778751000-1778761800@clearviewchurch.com
SUMMARY:Pickleball
DESCRIPTION:
URL:https://clearviewchurch.com/event/pickleball-162/
END:VEVENT
BEGIN:VEVENT
DTSTART;TZID=America/Toronto:20260514T100000
DTEND;TZID=America/Toronto:20260514T120000
DTSTAMP:20260421T142106
CREATED:20260213T003920Z
LAST-MODIFIED:20260420T145246Z
UID:95815-1778752800-1778760000@clearviewchurch.com
SUMMARY:Pickleball
DESCRIPTION:
URL:https://clearviewchurch.com/event/pickleball-135/
END:VEVENT
BEGIN:VEVENT
DTSTART;TZID=America/Toronto:20260517T100000
DTEND;TZID=America/Toronto:20260517T113000
DTSTAMP:20260421T142106
CREATED:20260216T003920Z
LAST-MODIFIED:20260421T172248Z
UID:95882-1779012000-1779017400@clearviewchurch.com
SUMMARY:Worship Gathering
DESCRIPTION:Come join our community as we gather to worship in person and move forward together following Jesus. \nFor those ready to worship in community\, we can’t wait to joyfully welcome you into our church space where every effort will be made to keep you safe.  We will continue to  live-stream our worship services on YouTube to accommodate those who are unable to join us in person. 
URL:https://clearviewchurch.com/event/worship-gathering-174/
END:VEVENT
BEGIN:VEVENT
DTSTART;TZID=America/Toronto:20260517T183000
DTEND;TZID=America/Toronto:20260517T203000
DTSTAMP:20260421T142106
CREATED:20260216T003920Z
LAST-MODIFIED:20260421T172248Z
UID:95883-1779042600-1779049800@clearviewchurch.com
SUMMARY:Youth
DESCRIPTION:
URL:https://clearviewchurch.com/event/youth-48/
END:VEVENT
BEGIN:VEVENT
DTSTART;TZID=America/Toronto:20260518T093000
DTEND;TZID=America/Toronto:20260518T113000
DTSTAMP:20260421T142106
CREATED:20260420T160801Z
LAST-MODIFIED:20260421T172301Z
UID:97424-1779096600-1779103800@clearviewchurch.com
SUMMARY:Pickleball
DESCRIPTION:
URL:https://clearviewchurch.com/event/pickleball-163/
END:VEVENT
BEGIN:VEVENT
DTSTART;TZID=America/Toronto:20260518T100000
DTEND;TZID=America/Toronto:20260518T120000
DTSTAMP:20260421T142106
CREATED:20260217T000922Z
LAST-MODIFIED:20260408T180803Z
UID:95904-1779098400-1779105600@clearviewchurch.com
SUMMARY:Pickleball
DESCRIPTION:
URL:https://clearviewchurch.com/event/pickleball-136/
END:VEVENT
BEGIN:VEVENT
DTSTART;TZID=America/Toronto:20260518T100000
DTEND;TZID=America/Toronto:20260518T130000
DTSTAMP:20260421T142106
CREATED:20260217T000922Z
LAST-MODIFIED:20260408T180803Z
UID:95905-1779098400-1779109200@clearviewchurch.com
SUMMARY:Creative Sisters
DESCRIPTION:
URL:https://clearviewchurch.com/event/creative-sisters-121/
END:VEVENT
BEGIN:VEVENT
DTSTART;TZID=America/Toronto:20260519T093000
DTEND;TZID=America/Toronto:20260519T123000
DTSTAMP:20260421T142106
CREATED:20260420T160801Z
LAST-MODIFIED:20260421T172301Z
UID:97425-1779183000-1779193800@clearviewchurch.com
SUMMARY:Pickleball
DESCRIPTION:
URL:https://clearviewchurch.com/event/pickleball-164/
END:VEVENT
BEGIN:VEVENT
DTSTART;TZID=America/Toronto:20260519T183000
DTEND;TZID=America/Toronto:20260519T200000
DTSTAMP:20260421T142106
CREATED:20260416T145257Z
LAST-MODIFIED:20260421T172301Z
UID:97311-1779215400-1779220800@clearviewchurch.com
SUMMARY:Sports League
DESCRIPTION:
URL:https://clearviewchurch.com/event/sports-league-38/
END:VEVENT
BEGIN:VEVENT
DTSTART;TZID=America/Toronto:20260520T193000
DTEND;TZID=America/Toronto:20260520T210000
DTSTAMP:20260421T142106
CREATED:20260219T000921Z
LAST-MODIFIED:20260421T172301Z
UID:95951-1779305400-1779310800@clearviewchurch.com
SUMMARY:Young Adults - Cafe
DESCRIPTION:
URL:https://clearviewchurch.com/event/young-adults-cafe-19/
END:VEVENT
BEGIN:VEVENT
DTSTART;TZID=America/Toronto:20260521T093000
DTEND;TZID=America/Toronto:20260521T123000
DTSTAMP:20260421T142106
CREATED:20260420T160801Z
LAST-MODIFIED:20260421T172301Z
UID:97426-1779355800-1779366600@clearviewchurch.com
SUMMARY:Pickleball
DESCRIPTION:
URL:https://clearviewchurch.com/event/pickleball-165/
END:VEVENT
BEGIN:VEVENT
DTSTART;TZID=America/Toronto:20260521T100000
DTEND;TZID=America/Toronto:20260521T120000
DTSTAMP:20260421T142106
CREATED:20260220T005419Z
LAST-MODIFIED:20260420T145257Z
UID:95975-1779357600-1779364800@clearviewchurch.com
SUMMARY:Pickleball
DESCRIPTION:
URL:https://clearviewchurch.com/event/pickleball-137/
END:VEVENT
BEGIN:VEVENT
DTSTART;TZID=America/Toronto:20260521T191500
DTEND;TZID=America/Toronto:20260521T201500
DTSTAMP:20260421T142106
CREATED:20260220T005420Z
LAST-MODIFIED:20260421T172301Z
UID:95976-1779390900-1779394500@clearviewchurch.com
SUMMARY:Prayer and Worship Night
DESCRIPTION:
URL:https://clearviewchurch.com/event/prayer-and-worship-night-9/
END:VEVENT
END:VCALENDAR